BEGIN:VCALENDAR
VERSION:2.0
PRODID:-//Basel2037 - ECPv6.14.0//NONSGML v1.0//EN
CALSCALE:GREGORIAN
METHOD:PUBLISH
X-WR-CALNAME:Basel2037
X-ORIGINAL-URL:https://basel2037.ch
X-WR-CALDESC:Veranstaltungen im Basel2037
REFRESH-INTERVAL;VALUE=DURATION:PT1H
X-Robots-Tag:noindex
X-PUBLISHED-TTL:PT1H
BEGIN:VTIMEZONE
TZID:Europe/Rome
BEGIN:DAYLIGHT
TZOFFSETFROM:+0100
TZOFFSETTO:+0200
TZNAME:CEST
DTSTART:20260329T010000
END:DAYLIGHT
BEGIN:STANDARD
TZOFFSETFROM:+0200
TZOFFSETTO:+0100
TZNAME:CET
DTSTART:20261025T010000
END:STANDARD
END:VTIMEZONE
BEGIN:VEVENT
DTSTART;TZID=Europe/Rome:20260423T080000
DTEND;TZID=Europe/Rome:20260424T170000
DTSTAMP:20260424T141119
CREATED:20260223T101115Z
LAST-MODIFIED:20260226T123133Z
UID:6169-1776931200-1777050000@basel2037.ch
SUMMARY:Full Circle
DESCRIPTION:Das Symposium für Kreislaufwirtschaft in der Schweiz \nhttps://fullcirclebasel.ch \nVeranstalter: FHNW \nVeranstaltungsort: \n  \n 
URL:https://basel2037.ch/event/full-circle/
LOCATION:FHNW\, HGK
END:VEVENT
BEGIN:VEVENT
DTSTART;TZID=Europe/Rome:20260428T133000
DTEND;TZID=Europe/Rome:20260428T170000
DTSTAMP:20260424T141119
CREATED:20260223T101254Z
LAST-MODIFIED:20260226T123058Z
UID:6172-1777383000-1777395600@basel2037.ch
SUMMARY:Praxiszirkel 1: «Verstehen\, starten\, umsetzen»
DESCRIPTION:Fokus: Einstieg in ESG\, Scope 1 bis 3 verständlich erklärt\, Quick Wins bei Touren\, Energie\, Mitarbeitenden und Kunden\, Wirtschaftliche Chancen erkennen und nutzen\, Regionale Praxisbeispiele\nZielgruppe: Logistikanbieter (KMU)\, Transporteure\, Lagerbetreiber\nKosten 275 CHF \nVeranstalter: HKBB \nVeranstaltungsort:
URL:https://basel2037.ch/event/praxiszirkel-1-verstehen-starten-umsetzen/
LOCATION:Handelskammer beider Basel\, St. Jakobs-Strasse 25\, Basel\, Seminarraum EG
END:VEVENT
BEGIN:VEVENT
DTSTART;TZID=Europe/Rome:20260429T113000
DTEND;TZID=Europe/Rome:20260429T140000
DTSTAMP:20260424T141119
CREATED:20260211T145037Z
LAST-MODIFIED:20260226T123026Z
UID:6112-1777462200-1777471200@basel2037.ch
SUMMARY:Verbandsanlass Schreiner Basel2037
DESCRIPTION:geschlossener Anlass für den Schreinerverband. \nVeranstalter: Gewerbeverband Basel-Stadt\, zusammen mit Basel2037 und BaselCircular \nVeranstaltungsort:
URL:https://basel2037.ch/event/verbandsanlass-schreiner-basel2037/
LOCATION:Pullmann Basel Europe\, Clarastrasse 43\, Basel
END:VEVENT
BEGIN:VEVENT
DTSTART;TZID=Europe/Rome:20260505T170000
DTEND;TZID=Europe/Rome:20260505T180000
DTSTAMP:20260424T141119
CREATED:20260223T101444Z
LAST-MODIFIED:20260226T122929Z
UID:6177-1778000400-1778004000@basel2037.ch
SUMMARY:Zukunftsfeld "Zero Emissions": Baustelle Ressourcenwende 
DESCRIPTION:Die Schweiz hat sich zum Ziel gesetzt bis 2050 die Treibhausgasemissionen auf netto Null zu senken. Im Bausektor\, einer der Energie- und ressourcenintensivsten Sektoren der Schweiz\, sind daher dringend neue Konzepte gefragt\, die Klima- und Ressourcenschutz neu denken. Wie können Gebäude so geplant werden\, dass sie mit wenig grauen Emissionen errichtet und betrieben werden können und am Ende des Lebenszyklus keinen Abfall generieren? In der VL werden aktuelle Forschungsansätze vorgestellt\, die in einem Reallaborprojekt in Berlin Anwendung finden \nVeranstalter: FHNW\, Prof. Andrea Klinge\nInstitut Nachhaltigkeit und\nEnergie am Bau\,\nHochschule für Architektur\,\nBau und Geomatik \nkeine Anmeldung notwendig \nVeranstaltungsort: \n 
URL:https://basel2037.ch/event/zukunftsfeld-zero-emissions-baustelle-ressourcenwende/
LOCATION:Öffentliche Ringvorlesungen FHNW Campus Brugg-Windisch | Raum 6.0D09
END:VEVENT
BEGIN:VEVENT
DTSTART;TZID=Europe/Rome:20260509T080000
DTEND;TZID=Europe/Rome:20260510T170000
DTSTAMP:20260424T141119
CREATED:20260223T101628Z
LAST-MODIFIED:20260226T122906Z
UID:6179-1778313600-1778432400@basel2037.ch
SUMMARY:Tag der Sonne
DESCRIPTION:Tage der Sonne Basel \n \nVeranstalter: SSES \nVeranstaltungsort:
URL:https://basel2037.ch/event/tag-der-sonne/
LOCATION:Basel\, Kasernenhof
END:VEVENT
BEGIN:VEVENT
DTSTART;TZID=Europe/Rome:20260519T170000
DTEND;TZID=Europe/Rome:20260519T180000
DTSTAMP:20260424T141119
CREATED:20260223T101743Z
LAST-MODIFIED:20260226T122832Z
UID:6183-1779210000-1779213600@basel2037.ch
SUMMARY:Zukunftsfeld "Zero Emissions":Netto Null in Städten – Die grössten Herausforderungen liegen ausserhalb der Stadtgrenzen 
DESCRIPTION:Netto-Null-Ziele sind in vielen Städten mittlerweile verbreitet – doch meist werden nur direkte Emissionen berücksichtigt. Indirekte Emissionen (Scope 3) spielen für die tatsächliche Klimawirkung eine fundamentale Rolle. Im Vortrag werden die wichtigsten Herausforderungen analysiert\, denen europäische Städte begegnen\, und erfolgreiche Ansätze diskutiert. \nVeranstalter: FHNW\, Riccarda Schmid\, Prof. Dr. Claus-Heinrich Daub\, Centre for Sustainable Business & Circular Economy\, Institut für Unternehmensführung\, Hochschule für Wirtschaft \nkeine Anmeldung notwendig \nVeranstaltungsort:
URL:https://basel2037.ch/event/zukunftsfeld-zero-emissionsnetto-null-in-staedten-die-groessten-herausforderungen-liegen-ausserhalb-der-stadtgrenzen/
LOCATION:Öffentliche Ringvorlesungen FHNW Campus Brugg-Windisch | Raum 6.-1D09 \,17.00 – 18.00 Uhr
END:VEVENT
BEGIN:VEVENT
DTSTART;TZID=Europe/Rome:20260602T170000
DTEND;TZID=Europe/Rome:20260602T180000
DTSTAMP:20260424T141119
CREATED:20260223T101940Z
LAST-MODIFIED:20260226T122749Z
UID:6186-1780419600-1780423200@basel2037.ch
SUMMARY:Zukunftsfeld "Zero Emissions": Sorge um Bestand
DESCRIPTION:Eine mögliche Definition von Architektur ist die räumliche Anordnungen sozialer Prozesse. Alle sozialen Prozesse sind von Menschen (mit-)gestaltet: nicht nur Häuser\, Autos\, Kleidung\, Bücher und Möbel\, sondern auch Beziehungsweisen\, Machtverhältnisse\, Kochrezepte\, Normen\, Traditionen\, und in Zeiten des Anthropozän Klima\, Landschaftsstruktur und Artenvielfalt. Wenn alles vom Menschen gestaltet ist\, kann es auch anders gestaltet werden – was angesichts der prognostizierten Klimakatastrophe\, den ökologischen Problemen und ökonomischen Ungerechtigkeiten dringend notwendig ist. \nVeranstalter: FHNW; Prof. Matthias Böttger\,\nInstitut Experimentelle Design- und Medienkulturen\,\nHochschule für Gestaltung und Kunst \nkeine Anmeldung notwendig \nVeranstaltungsort:
URL:https://basel2037.ch/event/zukunftsfeld-zero-emissions-sorge-um-bestand/
LOCATION:Öffentliche Ringvorlesungen FHNW Campus Brugg-Windisch | Raum 6.0D09
END:VEVENT
BEGIN:VEVENT
DTSTART;TZID=Europe/Rome:20260624T083000
DTEND;TZID=Europe/Rome:20260624T120000
DTSTAMP:20260424T141119
CREATED:20260223T102050Z
LAST-MODIFIED:20260226T122716Z
UID:6188-1782289800-1782302400@basel2037.ch
SUMMARY:Praxiszirkel 2: «CO₂-Bilanzierung\, Berichtspflichten & Fördermittel»
DESCRIPTION:Fokus: CO₂-Bilanzierung (Scope 1 bis 3)\, CSRD/ESRS – Auswirkungen für die Schweiz\, Kundenerwartungen und Nachweise\, Förderlandschaft Schweiz und Finanzierungsmöglichkeiten\, Praxisbeispiele‑Bilanzierung (Scope 1 bis 3)\nZielgruppe: Logistiker und Verlader sowie KMU und Mittelstand mit Interesse an Reporting und Fördermittelzugang.\nKosten 275 CHF \nVeranstalter: HKBB \nVeranstaltungsort: \n 
URL:https://basel2037.ch/event/praxiszirkel-2-co%e2%82%82-bilanzierung-berichtspflichten-foerdermittel/
LOCATION:Handelskammer beider Basel\, St. Jakobs-Strasse 25\, Basel\, Seminarraum EG
END:VEVENT
BEGIN:VEVENT
DTSTART;TZID=Europe/Rome:20260820T180000
DTEND;TZID=Europe/Rome:20260820T200000
DTSTAMP:20260424T141119
CREATED:20260211T145305Z
LAST-MODIFIED:20260311T095058Z
UID:6118-1787248800-1787256000@basel2037.ch
SUMMARY:Jahresevent Basel2037
DESCRIPTION:Jährliches Vernetzungsanlass für KMU aus dem Kanton Basel-Stadt\, organisiert vom Gewerbeverband Basel-Stadt und dem Verein Basel2037. Weitere Details und Anmeldelink folgen. \nVeranstalter: Gewerbeverband Basel-Stadt zusammen mit Basel2037 \nVeranstaltungsort:
URL:https://basel2037.ch/event/jahresevent-basel2037/
LOCATION:Atlantis Basel\, Klosterberg 13\, Basel\, Switzerland
END:VEVENT
BEGIN:VEVENT
DTSTART;TZID=Europe/Rome:20260901T170000
DTEND;TZID=Europe/Rome:20260901T210000
DTSTAMP:20260424T141119
CREATED:20260223T102407Z
LAST-MODIFIED:20260226T122604Z
UID:6190-1788282000-1788296400@basel2037.ch
SUMMARY:BaselCircular - Jooresdräff 2026
DESCRIPTION:Save the date | BaselCircular Jooresdräff 2026 \n \nsave the date
URL:https://basel2037.ch/event/baselcircular-jooresdraeff-2026/
END:VEVENT
BEGIN:VEVENT
DTSTART;TZID=Europe/Rome:20260910T180000
DTEND;TZID=Europe/Rome:20260910T200000
DTSTAMP:20260424T141119
CREATED:20260211T150229Z
LAST-MODIFIED:20260226T122540Z
UID:6132-1789063200-1789070400@basel2037.ch
SUMMARY:Klima-Award 2026
DESCRIPTION:Aktuell läuft die Wettbewerbs- Ausschreibungsphase für 2026 \nVeranstalter: Gewerbeverband Basel-Stadt \nWebseite: https://gewerbe-basel.ch/nachhaltigkeit/oekologisch/klima-award-basel-stadt/ \nVeranstaltungsort:
URL:https://basel2037.ch/event/klima-award-2026/
LOCATION:Stadtcasino Basel\, Konzertgasse 1\, Basel\, Switzerland
END:VEVENT
BEGIN:VEVENT
DTSTART;TZID=Europe/Rome:20260923T120000
DTEND;TZID=Europe/Rome:20260923T140000
DTSTAMP:20260424T141119
CREATED:20260211T145800Z
LAST-MODIFIED:20260226T122454Z
UID:6126-1790164800-1790172000@basel2037.ch
SUMMARY:Verbandsanlass eit.nordwest Basel2037
DESCRIPTION:geschlossener Anlass für EIT. nordwest organisiert vom Gewerbeverband Basel-Stadt zusammen mit Basel2037. \nVeranstalter: Gewerbeverband Basel-Stadt zusammen mit Basel2037 und BaselCircular \nVeranstaltungsort:
URL:https://basel2037.ch/event/verbandsanlass-eit-nordwest-basel2037/
LOCATION:Seegarten Restaurant\, Park im Grünen Rainstrasse 6\, Münchenstein\, Switzerland
END:VEVENT
END:VCALENDAR